BEGIN:VCALENDAR
VERSION:2.0
PRODID:-//Cansfield High School - ECPv6.15.18//NONSGML v1.0//EN
CALSCALE:GREGORIAN
METHOD:PUBLISH
X-ORIGINAL-URL:https://www.cansfield.wigan.sch.uk
X-WR-CALDESC:Events for Cansfield High School
REFRESH-INTERVAL;VALUE=DURATION:PT1H
X-Robots-Tag:noindex
X-PUBLISHED-TTL:PT1H
BEGIN:VTIMEZONE
TZID:UTC
BEGIN:STANDARD
TZOFFSETFROM:+0000
TZOFFSETTO:+0000
TZNAME:UTC
DTSTART:20240101T000000
END:STANDARD
END:VTIMEZONE
BEGIN:VEVENT
DTSTART;TZID=UTC:20250919T080000
DTEND;TZID=UTC:20250919T180000
DTSTAMP:20260419T184316
CREATED:20250919T104817Z
LAST-MODIFIED:20250919T104817Z
UID:10000008-1758268800-1758304800@www.cansfield.wigan.sch.uk
SUMMARY:Anti-Bullying Play
DESCRIPTION:
URL:https://www.cansfield.wigan.sch.uk/event/anti-bullying-play/
END:VEVENT
BEGIN:VEVENT
DTSTART;TZID=UTC:20250919T080000
DTEND;TZID=UTC:20250919T180000
DTSTAMP:20260419T184316
CREATED:20250919T104954Z
LAST-MODIFIED:20250919T104954Z
UID:10000009-1758268800-1758304800@www.cansfield.wigan.sch.uk
SUMMARY:Jeans for Genes Day (Science)
DESCRIPTION:Jeans for Genes is an annual national event to raise awareness and funds for people affected by a genetic disease. This year at Cansfield pupils and staff will be encouraged to wear their jeans to school on Friday 19th September and to donate £1 for a variety of worthy causes.
URL:https://www.cansfield.wigan.sch.uk/event/jeans-for-genes-day-science/
END:VEVENT
END:VCALENDAR